BEGIN:VCALENDAR
VERSION:2.0
PRODID:-//eventon.com NONSGML v1.0//EN
CALSCALE:GREGORIAN
METHOD:PUBLISH
BEGIN:VEVENT
UID:69e6067dcdf8e
DTSTAMP:20260420T105701Z
DTSTART:20251115T200000Z
DTEND:20251115T235000Z
LOCATION:
SUMMARY:The Podger - Garforth
DESCRIPTION:The Podger - Garforth\nhttps://scarlettwhincup.co.uk/events/the
 -podger-garforth/
URL:https://scarlettwhincup.co.uk/events/the-podger-garforth/
END:VEVENT
END:VCALENDAR